BEGIN:VCALENDAR
VERSION:2.0
METHOD:PUBLISH
PRODID:-//Accessible Web Design//My Calendar//http://www.joedolson.com//v2.5.6//EN
BEGIN:VEVENT
UID:43-35
LOCATION:     
SUMMARY:Green Dragon Broadsword
DTSTAMP:20171014T141500
ORGANIZER;CN=Kim Anh Kenneth Eastman:MAILTO:cscireland@gmail.com
DTSTART:20171014T141500
DTEND:20171014T170000
URL;VALUE=URI:http://shaolin.ie/wp/my-calendar-2/
DESCRIPTION:
CATEGORIES:General
END:VEVENT
BEGIN:VEVENT
UID:42-36
LOCATION:     
SUMMARY:83 Posture Chen Family Tai Chi 1st 1/2 Half
DTSTAMP:20171028T100000
ORGANIZER;CN=Kim Anh Kenneth Eastman:MAILTO:cscireland@gmail.com
DTSTART:20171028T100000
DTEND:20171028T140000
URL;VALUE=URI:http://shaolin.ie/wp/my-calendar-2/
DESCRIPTION:
CATEGORIES:General
END:VEVENT
BEGIN:VEVENT
UID:44-37
LOCATION:     
SUMMARY:83 Posture Chen Family Tai Chi 2nd 1/2 Half
DTSTAMP:20171029T100000
ORGANIZER;CN=Kim Anh Kenneth Eastman:MAILTO:cscireland@gmail.com
DTSTART:20171029T100000
DTEND:20171029T140000
URL;VALUE=URI:http://shaolin.ie/wp/my-calendar-2/
DESCRIPTION:
CATEGORIES:General
END:VEVENT
END:VCALENDAR