BEGIN:VCALENDAR
VERSION:2.0
METHOD:PUBLISH
PRODID:-//Accessible Web Design//My Calendar//http://www.joedolson.com//v2.5.6//EN
BEGIN:VEVENT
UID:45-38
LOCATION:     
SUMMARY:Classical 37 Posture Yang Family Tai Chi
DTSTAMP:20171105T100000
ORGANIZER;CN=Kim Anh Kenneth Eastman:MAILTO:cscireland@gmail.com
DTSTART:20171105T100000
DTEND:20171105T140000
URL;VALUE=URI:http://shaolin.ie/wp/my-calendar-2/
DESCRIPTION:
CATEGORIES:General
END:VEVENT
END:VCALENDAR